BEGIN:VCALENDAR
VERSION:2.0
PRODID:-//ماليتري ساينس - ECPv6.15.12.2//NONSGML v1.0//EN
CALSCALE:GREGORIAN
METHOD:PUBLISH
X-WR-CALNAME:ماليتري ساينس
X-ORIGINAL-URL:https://militarysci.com
X-WR-CALDESC:Events for ماليتري ساينس
REFRESH-INTERVAL;VALUE=DURATION:PT1H
X-Robots-Tag:noindex
X-PUBLISHED-TTL:PT1H
BEGIN:VTIMEZONE
TZID:Europe/Moscow
BEGIN:STANDARD
TZOFFSETFROM:+0300
TZOFFSETTO:+0300
TZNAME:MSK
DTSTART:20230101T000000
END:STANDARD
END:VTIMEZONE
BEGIN:VEVENT
DTSTART;TZID=Europe/Moscow:20240605T080000
DTEND;TZID=Europe/Moscow:20240609T170000
DTSTAMP:20260421T132416
CREATED:20240604T114540Z
LAST-MODIFIED:20240709T121744Z
UID:2692-1717574400-1717952400@militarysci.com
SUMMARY:معرض برلين الدولي للطيران
DESCRIPTION:هو معرض يجمع بين معرض تجاري رئيسي لصناعات الطيران والدفاع مع عرض جوي عام. يقام كل عام حتى في مطار برلين \nأقيم أحدث معرض إيلا برلين للطيران 1-4 يونيو 2016. \nتأسست في عام 1909، مما يجعله أقدم معرض جوي في العالم، وأنه من بين أكبر وأهم المعارض التجارية الفضاء اليوم. \nفي عام 2012 اجتذب معرض برلين الجوي 125\,000 زائر متخصص و 105\,000 من أفراد الجمهور، مع حضور 3600 صحفي من 65 دولة أيضا.الشكل مشابه لمعرض باريس الجوي في فرنسا ومعرض فارنبورو الدولي للطيران في بريطانيا، والأحداث الرئيسية الأخرى في التقويم الجوي الأوروبي التقويم. \nيبدأ الحدث برلين مع ثلاثة أيام المهنية مغلقة لعامة الناس، وبعد ذلك الجمعة والسبت والأحد يسمح للجمهور. وتشمل أقسام العرض الرئيسية المخطط لها لعام 2014 النقل الجوي التجاري، والفضاء، والطيران العسكري، والطائرات العمودية، ونظم الطائرات المدنية والعسكرية غير المأهولة، والمعروفة أيضا باسم الطائرات بدون طيار. \n 
URL:https://militarysci.com/event/%d9%85%d8%b9%d8%b1%d8%b6-%d8%a8%d8%b1%d9%84%d9%8a%d9%86-%d8%a7%d9%84%d8%af%d9%88%d9%84%d9%8a-%d9%84%d9%84%d8%b7%d9%8a%d8%b1%d8%a7%d9%86
LOCATION:The new Expocenter Airport is located near Schönefeld\, Brandenburg\, 18 km southeast of Berlin\, Germany.\, The new Expocenter Airport is located near Schönefeld\, Brandenburg\, Berlin\, Germany
CATEGORIES:expo
ATTACH;FMTTYPE=image/png:https://militarysci.com/wp-content/uploads/2024/06/ila-berlin-2024.png
ORGANIZER;CN="BDLI German":MAILTO:kontakt@bdli.de
END:VEVENT
END:VCALENDAR