BEGIN:VCALENDAR
VERSION:2.0
PRODID:-//ماليتري ساينس - ECPv6.15.12.2//NONSGML v1.0//EN
CALSCALE:GREGORIAN
METHOD:PUBLISH
X-WR-CALNAME:ماليتري ساينس
X-ORIGINAL-URL:https://militarysci.com
X-WR-CALDESC:Events for ماليتري ساينس
REFRESH-INTERVAL;VALUE=DURATION:PT1H
X-Robots-Tag:noindex
X-PUBLISHED-TTL:PT1H
BEGIN:VTIMEZONE
TZID:Europe/Moscow
BEGIN:STANDARD
TZOFFSETFROM:+0300
TZOFFSETTO:+0300
TZNAME:MSK
DTSTART:20230101T000000
END:STANDARD
END:VTIMEZONE
BEGIN:VEVENT
DTSTART;TZID=Europe/Moscow:20240902T080000
DTEND;TZID=Europe/Moscow:20240905T170000
DTSTAMP:20260421T145905
CREATED:20240612T132528Z
LAST-MODIFIED:20240822T180146Z
UID:2841-1725264000-1725555600@militarysci.com
SUMMARY:معرض مصر الدولي للطيران والفضاء
DESCRIPTION:من المقرر انطلاق معرض مصر الدولي للطيران (EIAS) في الفترة من 3 إلى 5 سبتمبر 2024 في مطار العلمين الدولي. تهدف EIAS، بقيادة وزارة الدفاع والقوات الجوية المصرية ووزارة الطيران المدني، إلى تسريع التصنيع والرقمنة والعولمة في قطاعات الطيران والطيران والدفاع والفضاء في الشرق الأوسط وأفريقيا. \nإن موقع مصر الاستراتيجي كحليف عالمي في مجال الطيران والدفاع يجعلها المضيف المثالي لهذا الحدث المحوري، حيث يعرض استثماراتها التي تتراوح بين القدرات الإقليمية واستكشاف الفضاء. \nتفتخر مصر بأكبر قوة جوية في منطقة الشرق الأوسط وشمال أفريقيا وتستضيف أكثر المطارات ازدحاما في أفريقيا في القاهرة، إلى جانب المطار الخامس الأكثر ازدحاما في الغردقة. يقدم EIAS منصة فريدة لتعزيز الشراكات التجارية في جميع أنحاء مصر والشرق الأوسط وأفريقيا. \nوسيتضمن الحدث عروضاً للطائرات ومؤتمرات متطورة ومعرضاً لمنتجات وخدمات الطيران المبتكرة.\n \nمن سيتمكن من العرض بالمعرض : \n الشركات المصنعة للطائرات: الشركات التي تقوم بتصميم وبناء وتوريد طائرات تجارية وعسكرية وطائرات رجال الأعمال والطيران العام.  الشركات المصنعة للمحركات: الشركات التي تقوم بتصميم وبناء وتوريد المحركات لأنواع مختلفة من الطائرات.   \nموردو إلكترونيات الطيران والإلكترونيات: الشركات التي تقوم بتصميم وبناء وتوريد الأنظمة والمكونات الإلكترونية للطائرات، مثل أنظمة الملاحة، ومعدات الاتصالات، وأنظمة إدارة الطيران.   \nمصنعو وموردو معدات ومكونات الطيران: العارضون الذين يقومون بتصميم وبناء وتوريد مجموعة واسعة من معدات ومكونات الطيران، بما في ذلك معدات الهبوط والفرامل وأنظمة الوقود والديكورات الداخلية للطائرات.   \nشركات MRO :(الصيانة والإصلاح والتجديد).  \n مقدمو خدمات الطيران: الشركات التي تقدم خدمات متنوعة لصناعة الطيران، بما في ذلك خدمات التأجير والتمويل، والتأمين، والخدمات اللوجستية.  \n موردو المعدات العسكرية: الشركات التي تقوم بتوريد المعدات والتقنيات العسكرية، مثل أنظمة الرادار، وأنظمة الأسلحة، ومعدات الاتصالات.   \nموردو صناعة الفضاء: الشركات التي تصنع المكونات والأقمار الصناعية ومركبات الإطلاق ومشغلي المركبات الفضائية ومنظمات أبحاث الفضاء.   \nمنظمات البحث والتطوير: العارضون الذين يقومون بالبحث والتطوير في مجال الطيران، بما في ذلك هندسة الطيران والديناميكا الهوائية وعلوم المواد.   \nمقدمو التعليم والتدريب: العارضون الذين يقدمون التعليم والتدريب لصناعة الطيران، بما في ذلك تدريب الطيارين، والتدريب على مراقبة الحركة الجوية، وبرامج هندسة الطيران. \n\n\nسينقسم المؤتمر إلى قسمين وسيُعقد في التواريخ التالية:\nمؤتمر آفاق الفضاء الجديد: 2 سبتمبر، مدينة العلمين\nمحادثات قادة الطيران: 4 – 5 سبتمبر، مطار العلمين الدولي \n\n\n استعد لتنبهر بعروض الطيران اليومية المبهجة التي تعرض أحدث الطائرات التجارية والعسكرية. شاهد العروض الجوية المذهلة التي تدفع حدود الابتكار في مجال الطيران. تقام عروضنا الجوية كل يوم من أيام المعرض، مما يوفر مقعدًا في الصف الأمامي لعالم الطيران المذهل. من الألعاب البهلوانية التي تخطف القلب إلى التحليق المذهل، تعد عروض الطيران الخاصة بنا من المعالم البارزة التي لن ترغب في تفويتها. \n 
URL:https://militarysci.com/event/%d9%85%d8%b9%d8%b1%d8%b6-%d9%85%d8%b5%d8%b1-%d8%a7%d9%84%d8%af%d9%88%d9%84%d9%8a-%d9%84%d9%84%d8%b7%d9%8a%d8%b1%d8%a7%d9%86-%d9%88%d8%a7%d9%84%d9%81%d8%b6%d8%a7%d8%a1
LOCATION:El Alamein International Airport  WFJ7+46X\, Ghazal\, El Dabaa\, Matrouh Governorate 5003004\, Egypt\, WFJ7+46X\, Ghazal\, El Dabaa\, Matrouh Governorate\, 5003004\, Egypt
CATEGORIES:expo
ATTACH;FMTTYPE=image/webp:https://militarysci.com/wp-content/uploads/2024/06/egypt-air-show.webp
ORGANIZER;CN="arabianworldevents":MAILTO:connect@arabianworldevents.com
END:VEVENT
END:VCALENDAR