BEGIN:VCALENDAR
VERSION:2.0
PRODID:-//ماليتري ساينس - ECPv6.15.12.2//NONSGML v1.0//EN
CALSCALE:GREGORIAN
METHOD:PUBLISH
X-WR-CALNAME:ماليتري ساينس
X-ORIGINAL-URL:https://militarysci.com
X-WR-CALDESC:Events for ماليتري ساينس
REFRESH-INTERVAL;VALUE=DURATION:PT1H
X-Robots-Tag:noindex
X-PUBLISHED-TTL:PT1H
BEGIN:VTIMEZONE
TZID:Europe/Moscow
BEGIN:STANDARD
TZOFFSETFROM:+0300
TZOFFSETTO:+0300
TZNAME:MSK
DTSTART:20230101T000000
END:STANDARD
END:VTIMEZONE
BEGIN:VEVENT
DTSTART;TZID=Europe/Moscow:20240617T080000
DTEND;TZID=Europe/Moscow:20240621T170000
DTSTAMP:20260420T044045
CREATED:20240604T110427Z
LAST-MODIFIED:20240709T121637Z
UID:2668-1718611200-1718989200@militarysci.com
SUMMARY:يوروساتوري باريس 2024
DESCRIPTION:يوروساتوري 2024: الحدث العالمي للدفاع والأمن \nيُعد معرض يوروساتوري الحدث العالمي المرجعي في مجال الدفاع والأمن البري والجوي. كواجهة رئيسية بين جميع العسكريين في المجتمع الدولي، \nيجمع يوروساتوري كل عامين أكثر من 100\,000 محترف يعملون في مجال الدفاع والأمن وإدارة الأزمات: الشركات، الحكومات، العاملين العسكريين، المؤسسات والهيئات الخاصة، والمنظمات فوق الوطنية. \nمن الصراعات شديدة الحدة إلى الكوارث الإنسانية والبيئية الخاصة بقرننا، يدعو يوروساتوري باريس 2024 المتخصصين في مجال الدفاع والأمن إلى مراقبة أحدث الحلول والخدمات والخبرات لمعالجة جميع أنواع الأزمات المعقدة. يوروساتوري يركز يوروساتوري 2024 على تعزيز القدرات الدفاعية والأمنية لمعالجة مجموعة واسعة من التهديدات، وسط عالم ديناميكي يعاني من الأوبئة العالمية والصراعات الكبرى والحاجة إلى التحول البيئي. \n منذ عام 1967، كان يوروساتوري بمثابة منصة للحاضرين للتواصل مع الشركات المصنعة والشركات الناشئة والجهات الفاعلة في القطاعين العام والخاص والخبراء والمؤسسات الدولية.  \nيعتمد معرض يوروساتوري 2024، المعترف به كأكبر معرض تجاري ومعرض دولي للدفاع الجوي والأمن البري في العالم، على أربع ركائز:   \nدولي: يجمع العارضين والزوار والصحفيين من جميع أنحاء العالم.   \nالتفاني في العمل: تسهيل الفرص والعلاقات التجارية للعارضين والزوار.   \nالتكنولوجية: عرض المعدات والأنظمة بالحجم الطبيعي.   \nالبصيرة: استضافة مؤتمرات لمناقشة تطور الدفاع والأمن \nيوروساتوري 2024 ترحب بما يلي:  \n\n محترفي الدفاع والأمن \nصناع القرار المؤسسي  \nسلطات الدفاع والأمن \nوالخبراء المؤثرون من كبار الشخصيات \n الخبراء المشاركون في تقييم المعدات \nوعمليات الشراء  طاقم التشغيل \nومستخدمي المعدات  أعضاء مراكز الفكر \nومراكز الاختبار والجامعات\n\n 
URL:https://militarysci.com/event/eurosatory-paris-2024
LOCATION:Villepinte\, France\, 93420 Villepinte\, ZAC Paris Nord 2\, France (Halls 5a – 5b – 6)\, 93420\, France
CATEGORIES:expo
ATTACH;FMTTYPE=image/png:https://militarysci.com/wp-content/uploads/2024/06/eurosatory-LOGO.png
END:VEVENT
END:VCALENDAR